BEGIN:VCALENDAR
VERSION:2.0
PRODID:-//CTEI Yorkville University &amp; Toronto Film School - ECPv6.15.20//NONSGML v1.0//EN
CALSCALE:GREGORIAN
METHOD:PUBLISH
X-WR-CALNAME:CTEI Yorkville University &amp; Toronto Film School
X-ORIGINAL-URL:https://ctei.yorkvilleu.ca
X-WR-CALDESC:Events for CTEI Yorkville University &amp; Toronto Film School
REFRESH-INTERVAL;VALUE=DURATION:PT1H
X-Robots-Tag:noindex
X-PUBLISHED-TTL:PT1H
BEGIN:VTIMEZONE
TZID:America/Toronto
BEGIN:DAYLIGHT
TZOFFSETFROM:-0500
TZOFFSETTO:-0400
TZNAME:EDT
DTSTART:20250309T070000
END:DAYLIGHT
BEGIN:STANDARD
TZOFFSETFROM:-0400
TZOFFSETTO:-0500
TZNAME:EST
DTSTART:20251102T060000
END:STANDARD
BEGIN:DAYLIGHT
TZOFFSETFROM:-0500
TZOFFSETTO:-0400
TZNAME:EDT
DTSTART:20260308T070000
END:DAYLIGHT
BEGIN:STANDARD
TZOFFSETFROM:-0400
TZOFFSETTO:-0500
TZNAME:EST
DTSTART:20261101T060000
END:STANDARD
BEGIN:DAYLIGHT
TZOFFSETFROM:-0500
TZOFFSETTO:-0400
TZNAME:EDT
DTSTART:20270314T070000
END:DAYLIGHT
BEGIN:STANDARD
TZOFFSETFROM:-0400
TZOFFSETTO:-0500
TZNAME:EST
DTSTART:20271107T060000
END:STANDARD
END:VTIMEZONE
BEGIN:VEVENT
DTSTART;TZID=America/Toronto:20260408T130000
DTEND;TZID=America/Toronto:20260408T140000
DTSTAMP:20260423T110616
CREATED:20251217T125123Z
LAST-MODIFIED:20260121T180936Z
UID:2396-1775653200-1775656800@ctei.yorkvilleu.ca
SUMMARY:Journal Club – April 2026 Meeting
DESCRIPTION:Journal Club – April 2026 Meeting\nDate: Wednesday\, April 8th\, 2026 \nTime: 2:00-3:00pm (AT) / 1:00-2:00pm (ET) / 10:00-11:00am (PT) \nRegistration link \n“Journal Club” CTEI Communities Description: \nJoin the CTEI for monthly get-togethers where members will gather to share and discuss ideas on teaching\, learning\, and education more broadly. Discussions will be guided by selected journal articles balancing theory and practice. \nFor April 2026’s Meeting\, we are reading and discussing: Mariana T. Guzzardo et al.’s “‘The Ones that Care Make all the Difference’: Perspectives on Student-Faculty Relationships”\, Innovative Higher Education\, 46(1)\, https://doi.org/10.1007/s10755-020-09522-w. \nMeetings are on the second Wednesday of each month at 10-11AM PT / 1-2PM ET / 2-3PM AT. \nCheck out our CTEI Communities page for more details and to register!
URL:https://ctei.yorkvilleu.ca/event/journal-club-april-2026-meeting/
CATEGORIES:CTEI Communities
ATTACH;FMTTYPE=image/jpeg:https://ctei.yorkvilleu.ca/wp-content/uploads/art-attack-RpSTMkZGKyE-unsplash-1-scaled-e1769018855786.jpg
END:VEVENT
BEGIN:VEVENT
DTSTART;TZID=America/Toronto:20260408T130000
DTEND;TZID=America/Toronto:20260408T140000
DTSTAMP:20260423T110616
CREATED:20260204T194025Z
LAST-MODIFIED:20260331T200023Z
UID:2376-1775653200-1775656800@ctei.yorkvilleu.ca
SUMMARY:CTEI Ready-to-Teach – Week One – Option Two
DESCRIPTION:CTEI Ready-to-Teach – Week One – Option Two\nDate: Wednesday\, April 8th\, 2026 \nTime: 2:00-3:00pm (AT) / 1:00-2:00pm (ET) / 10:00-11:00am (PT) \nRegistration link \nSession Description:   \nJoin the Centre for Teaching Excellence and Innovation to kick off the Ready-to-Teach program as you begin your time with Yorkville University and Toronto Film School. \nThe session will utilize active learning strategies which may include small breakout rooms and the use of other digital engagement tools. \nRemember: You only need to sign up for one synchronous session in each of the scheduled synchronous weeks (Week 1\, 3\, and 5 of the CTEI Ready-to-Teach program). \nIf you have any questions or concerns\, you can reach the Centre at ctei@yorkvilleu.ca. \nThe virtual doors will be closed to late attendees after 15 minutes.
URL:https://ctei.yorkvilleu.ca/event/ctei-ready-to-teach-week-one-option-two-6/
CATEGORIES:Webinettes, Webinars and Workshops
ATTACH;FMTTYPE=image/png:https://ctei.yorkvilleu.ca/wp-content/uploads/R2T_SynchSessions_Week1_Option2.png
END:VEVENT
END:VCALENDAR