BEGIN:VCALENDAR
VERSION:2.0
PRODID:-//CTEI Yorkville University &amp; Toronto Film School - ECPv6.15.20//NONSGML v1.0//EN
CALSCALE:GREGORIAN
METHOD:PUBLISH
X-WR-CALNAME:CTEI Yorkville University &amp; Toronto Film School
X-ORIGINAL-URL:https://ctei.yorkvilleu.ca
X-WR-CALDESC:Events for CTEI Yorkville University &amp; Toronto Film School
REFRESH-INTERVAL;VALUE=DURATION:PT1H
X-Robots-Tag:noindex
X-PUBLISHED-TTL:PT1H
BEGIN:VTIMEZONE
TZID:America/Toronto
BEGIN:DAYLIGHT
TZOFFSETFROM:-0500
TZOFFSETTO:-0400
TZNAME:EDT
DTSTART:20250309T070000
END:DAYLIGHT
BEGIN:STANDARD
TZOFFSETFROM:-0400
TZOFFSETTO:-0500
TZNAME:EST
DTSTART:20251102T060000
END:STANDARD
BEGIN:DAYLIGHT
TZOFFSETFROM:-0500
TZOFFSETTO:-0400
TZNAME:EDT
DTSTART:20260308T070000
END:DAYLIGHT
BEGIN:STANDARD
TZOFFSETFROM:-0400
TZOFFSETTO:-0500
TZNAME:EST
DTSTART:20261101T060000
END:STANDARD
BEGIN:DAYLIGHT
TZOFFSETFROM:-0500
TZOFFSETTO:-0400
TZNAME:EDT
DTSTART:20270314T070000
END:DAYLIGHT
BEGIN:STANDARD
TZOFFSETFROM:-0400
TZOFFSETTO:-0500
TZNAME:EST
DTSTART:20271107T060000
END:STANDARD
END:VTIMEZONE
BEGIN:VEVENT
DTSTART;TZID=America/Toronto:20260105T120000
DTEND;TZID=America/Toronto:20260105T130000
DTSTAMP:20260421T144104
CREATED:20251204T135828Z
LAST-MODIFIED:20251215T142833Z
UID:2362-1767614400-1767618000@ctei.yorkvilleu.ca
SUMMARY:CTEI Ready-to-Teach – Week One – Option One
DESCRIPTION:CTEI Ready-to-Teach – Week One – Option One\nDate: Monday\, January 5th\, 2026 \nTime: 1:00-2:00pm (AT) / 12:00-1:00pm (ET) / 9:00-10:00am (PT) \nRegistration link \nSession Description:   \nJoin the Centre for Teaching Excellence and Innovation to kick off the Ready-to-Teach program as you begin your time with Yorkville University and Toronto Film School. \nThe session will utilize active learning strategies which may include small breakout rooms and the use of other digital engagement tools. \nRemember: You only need to sign up for one synchronous session in each of the scheduled synchronous weeks (Week 1\, 3\, and 5 of the CTEI Ready-to-Teach program). \nIf you have any questions or concerns\, you can reach the Centre at ctei@yorkvilleu.ca. \nThe virtual doors will be closed to late attendees after 15 minutes.
URL:https://ctei.yorkvilleu.ca/event/ctei-ready-to-teach-week-one-option-one-5/
CATEGORIES:Webinettes, Webinars and Workshops
ATTACH;FMTTYPE=image/png:https://ctei.yorkvilleu.ca/wp-content/uploads/1-1-CTEI-Ready-to-Teach-Sync-Sesh-Images-Week-1-Option-1.png
END:VEVENT
BEGIN:VEVENT
DTSTART;TZID=America/Toronto:20260107T130000
DTEND;TZID=America/Toronto:20260107T140000
DTSTAMP:20260421T144104
CREATED:20251215T143004Z
LAST-MODIFIED:20260105T133615Z
UID:2370-1767790800-1767794400@ctei.yorkvilleu.ca
SUMMARY:CTEI Ready-to-Teach – Week One – Option Two
DESCRIPTION:CTEI Ready-to-Teach – Week One – Option Two\nDate: Wednesday\, January 7th\, 2026 \nTime: 2:00-3:00pm (AT) / 1:00-2:00pm (ET) / 10:00-11:00am (PT) \nRegistration link \nSession Description:   \nJoin the Centre for Teaching Excellence and Innovation to kick off the Ready-to-Teach program as you begin your time with Yorkville University and Toronto Film School. \nThe session will utilize active learning strategies which may include small breakout rooms and the use of other digital engagement tools. \nRemember: You only need to sign up for one synchronous session in each of the scheduled synchronous weeks (Week 1\, 3\, and 5 of the CTEI Ready-to-Teach program). \nIf you have any questions or concerns\, you can reach the Centre at ctei@yorkvilleu.ca. \nThe virtual doors will be closed to late attendees after 15 minutes.
URL:https://ctei.yorkvilleu.ca/event/ctei-ready-to-teach-week-one-option-two-5/
CATEGORIES:Webinettes, Webinars and Workshops
ATTACH;FMTTYPE=image/png:https://ctei.yorkvilleu.ca/wp-content/uploads/1-2-CTEI-Ready-to-Teach-Sync-Sesh-Images-Week-1-Option-2.png
END:VEVENT
BEGIN:VEVENT
DTSTART;TZID=America/Toronto:20260119T120000
DTEND;TZID=America/Toronto:20260119T133000
DTSTAMP:20260421T144104
CREATED:20251215T143144Z
LAST-MODIFIED:20251215T143144Z
UID:2371-1768824000-1768829400@ctei.yorkvilleu.ca
SUMMARY:CTEI Ready-to-Teach – Week Three – Option One
DESCRIPTION:CTEI Ready-to-Teach – Week Three – Option One\nDate: Monday\, January 19th\, 2026 \nTime: 1:00-2:30pm (AT) / 12:00-1:30pm (ET) / 9:00-10:30am (PT) \nRegistration link \nSession Description:   \nJoin the Centre for Teaching Excellence and Innovation to kick off the Ready-to-Teach program as you begin your time with Yorkville University and Toronto Film School. \nThe session will utilize active learning strategies which may include small breakout rooms and the use of other digital engagement tools. \nRemember: You only need to sign up for one synchronous session in each of the scheduled synchronous weeks (Week 1\, 3\, and 5 of the CTEI Ready-to-Teach program). \nIf you have any questions or concerns\, you can reach the Centre at ctei@yorkvilleu.ca. \nThe virtual doors will be closed to late attendees after 5 minutes.
URL:https://ctei.yorkvilleu.ca/event/ctei-ready-to-teach-week-three-option-one-5/
CATEGORIES:Webinettes, Webinars and Workshops
ATTACH;FMTTYPE=image/png:https://ctei.yorkvilleu.ca/wp-content/uploads/3-1-CTEI-Ready-to-Teach-Sync-Sesh-Images-Week-3-Option-1.png
END:VEVENT
BEGIN:VEVENT
DTSTART;TZID=America/Toronto:20260120T120000
DTEND;TZID=America/Toronto:20260120T133000
DTSTAMP:20260421T144104
CREATED:20251215T143558Z
LAST-MODIFIED:20251215T155310Z
UID:2363-1768910400-1768915800@ctei.yorkvilleu.ca
SUMMARY:Building Better Lessons: Frameworks for Intentional Plans
DESCRIPTION:Building Better Lessons: Frameworks for Intentional Plans\nDate: Tuesday\, January 20th\, 2026 \nTime: 1:00-2:30pm (AT) / 12:00-1:30pm (ET) / 9:00-10:30am (PT) \nRegistration link \nWorkshop Description: \nIn this workshop\, we will explore two models for lesson planning. Whether you are teaching online or on-site\, these models can offer you a framework to plan lectures\, tutorials\, seminars\, discussions\, labs\, experiential learning\, and everything in between. Time will be spent discussing aligning lesson plans with learning outcomes\, designing learning activities\, and considering time management (both for you and your students!).
URL:https://ctei.yorkvilleu.ca/event/building-better-lessons-frameworks-for-intentional-plans/
CATEGORIES:Webinettes, Webinars and Workshops
ATTACH;FMTTYPE=image/jpeg:https://ctei.yorkvilleu.ca/wp-content/uploads/pexels-olly-3769714-scaled.jpg
END:VEVENT
BEGIN:VEVENT
DTSTART;TZID=America/Toronto:20260121T130000
DTEND;TZID=America/Toronto:20260121T143000
DTSTAMP:20260421T144104
CREATED:20251215T144008Z
LAST-MODIFIED:20251215T144008Z
UID:2372-1769000400-1769005800@ctei.yorkvilleu.ca
SUMMARY:CTEI Ready-to-Teach – Week Three – Option Two
DESCRIPTION:CTEI Ready-to-Teach – Week Three – Option Two\nDate: Wednesday\, January 21th\, 2026 \nTime: 2:00-3:30pm (AT) / 1:00-2:30pm (ET) / 10:00-11:30am (PT) \nRegistration link \nSession Description:   \nJoin the Centre for Teaching Excellence and Innovation to kick off the Ready-to-Teach program as you begin your time with Yorkville University and Toronto Film School. \nThe session will utilize active learning strategies which may include small breakout rooms and the use of other digital engagement tools. \nRemember: You only need to sign up for one synchronous session in each of the scheduled synchronous weeks (Week 1\, 3\, and 5 of the CTEI Ready-to-Teach program). \nIf you have any questions or concerns\, you can reach the Centre at ctei@yorkvilleu.ca. \nThe virtual doors will be closed to late attendees after 5 minutes.
URL:https://ctei.yorkvilleu.ca/event/ctei-ready-to-teach-week-three-option-two-5/
CATEGORIES:Webinettes, Webinars and Workshops
ATTACH;FMTTYPE=image/png:https://ctei.yorkvilleu.ca/wp-content/uploads/3-2-CTEI-Ready-to-Teach-Sync-Sesh-Images-Week-3-Option-2.png
END:VEVENT
BEGIN:VEVENT
DTSTART;TZID=America/Toronto:20260126T143000
DTEND;TZID=America/Toronto:20260126T153000
DTSTAMP:20260421T144104
CREATED:20251219T142400Z
LAST-MODIFIED:20251219T142400Z
UID:2425-1769437800-1769441400@ctei.yorkvilleu.ca
SUMMARY:Fictional Classrooms: National Community of Practice (Winter 2026) – January 2026 Meeting
DESCRIPTION:Fictional Classrooms: National Community of Practice (Winter 2026) – January 2026 Meeting\nDate: Monday\, January 26th\, 2026 \nTime: 3:30-4:30pm (AT) / 2:30-3:30pm (ET) / 11:30am-12:30pm (PT) \nSign up to join! (you may be prompted to log in to your Google account) \n  \nFictional Classrooms National Community of Practice Description:   \nOver the past four years\, our very own Matthew Dunleavy (CTEI Senior Educational Developer\, Faculty Excellence and Development) and his colleague\, Robin Sutherland-Harris (York University)\, have facilitated the Fictional Classrooms community. The current iteration brings together educational/curriculum/faculty/instructional developers and instructors from across Canada and the US to explore and reflect on narratives of education in films\, television\, short stories\, and novels. These works may speak to us as learners\, educators\, developers\, researchers\, artists\, and/or simply as humans.  \nFor Winter 2026\, the Fictional Classrooms community will be discussing:  \n\nThe Good Place S02E05 “The Trolley Problem” (TV show) – January 26th \n\n\nIrfan in University (dir. Rıdvan Çevik) (short film) – February 23rd \n\n\nVaathi (dir. Venky Atluri) (film) – March 23rd \n\n\nStoner by John Williams (novel) – April 27th \n\nYou can read about all these selections (and previous selections) in our what to read/watch list.  \nTo join the Fictional Classrooms Community for Winter 2026:  \nPlease sign up as follows:   \n\nVisit https://groups.google.com/search?q=FictionalClassroomsED (you may be prompted to log in to your Google account)\nOn the right-hand side\, click the small “Join” icon (next to the star) and ask to join group.\nMatthew and Robin will approve your request within 2 working days\, and you will then have access to the group\, including their shared Google Folder and Calendar. \n\nNote from Matthew and Robin: We approach the Fictional Classrooms program with a “read-what-you-can” mentality. We understand that we can get busy and may not finish readings each month\, but we encourage you to attend each session regardless of how much you have been able to engage with the text or film so we can still have fruitful conversations and build community. 
URL:https://ctei.yorkvilleu.ca/event/fictional-classrooms-national-community-of-practice-winter-2026-january-2026-meeting/
CATEGORIES:CTEI Communities
ATTACH;FMTTYPE=image/png:https://ctei.yorkvilleu.ca/wp-content/uploads/2026-Fictional-Classrooms-Composite.png
END:VEVENT
BEGIN:VEVENT
DTSTART;TZID=America/Toronto:20260127T110000
DTEND;TZID=America/Toronto:20260127T120000
DTSTAMP:20260421T144104
CREATED:20260121T182418Z
LAST-MODIFIED:20260121T191457Z
UID:2444-1769511600-1769515200@ctei.yorkvilleu.ca
SUMMARY:SoTL Scholars' Community of Practice (Winter 2026) - January Meeting
DESCRIPTION:SoTL Scholars’ Community of Practice (Winter 2026) – January Meeting\nDate: Tuesday\, January 27th\, 2026 \nTime: 12:00-1:00pm (AT) / 11:00-12:00pm (ET) / 8:00-9:00am (PT) \nSoTL Scholars’ Community of Practice Description: \nAs part of their first year in the SoTL Scholars (2-Year Fellowships) program\, our SoTL Scholars meet monthly in a community of practice with The Centre to come together regularly as they work on their SoTL projects – not just to share their work and support each other\, but to build SoTL capacities\, cross-institutional relationships\, and contribute to and advance our culture of teaching excellence and innovation through the scholarship of teaching and learning. \nMeetings are on the final Tuesday of each month at 12-1PM AT / 11-12PM ET / 8-9AM PT \nCheck out our SoTL Scholars (2-Year Fellowships) landing page for more details about the program.
URL:https://ctei.yorkvilleu.ca/event/sotl-scholars-community-of-practice-winter-2026-january-meeting/
CATEGORIES:CTEI Communities
ATTACH;FMTTYPE=image/jpeg:https://ctei.yorkvilleu.ca/wp-content/uploads/art-attack-Qqn9VFkdV6E-unsplash-1-scaled-e1769019707209.jpg
END:VEVENT
END:VCALENDAR